BEGIN:VCALENDAR
VERSION:2.0
PRODID:-//South County Senior Center - ECPv6.15.20//NONSGML v1.0//EN
CALSCALE:GREGORIAN
METHOD:PUBLISH
X-WR-CALNAME:South County Senior Center
X-ORIGINAL-URL:https://southcountyseniorcenter.org
X-WR-CALDESC:Events for South County Senior Center
REFRESH-INTERVAL;VALUE=DURATION:PT1H
X-Robots-Tag:noindex
X-PUBLISHED-TTL:PT1H
BEGIN:VTIMEZONE
TZID:America/New_York
BEGIN:DAYLIGHT
TZOFFSETFROM:-0500
TZOFFSETTO:-0400
TZNAME:EDT
DTSTART:20220313T070000
END:DAYLIGHT
BEGIN:STANDARD
TZOFFSETFROM:-0400
TZOFFSETTO:-0500
TZNAME:EST
DTSTART:20221106T060000
END:STANDARD
BEGIN:DAYLIGHT
TZOFFSETFROM:-0500
TZOFFSETTO:-0400
TZNAME:EDT
DTSTART:20230312T070000
END:DAYLIGHT
BEGIN:STANDARD
TZOFFSETFROM:-0400
TZOFFSETTO:-0500
TZNAME:EST
DTSTART:20231105T060000
END:STANDARD
BEGIN:DAYLIGHT
TZOFFSETFROM:-0500
TZOFFSETTO:-0400
TZNAME:EDT
DTSTART:20240310T070000
END:DAYLIGHT
BEGIN:STANDARD
TZOFFSETFROM:-0400
TZOFFSETTO:-0500
TZNAME:EST
DTSTART:20241103T060000
END:STANDARD
END:VTIMEZONE
BEGIN:VEVENT
DTSTART;TZID=America/New_York:20231222T090000
DTEND;TZID=America/New_York:20231222T094500
DTSTAMP:20260425T064858
CREATED:20231205T180032Z
LAST-MODIFIED:20231205T180032Z
UID:1032-1703235600-1703238300@southcountyseniorcenter.org
SUMMARY:Enhanced Fitness
DESCRIPTION:
URL:https://southcountyseniorcenter.org/event/enhanced-fitness-53/
LOCATION:29 Sugarloaf St S Deerfield\, 29 Sugarloaf Street\, South Deerfield\, MA\, 01373\, United States
END:VEVENT
BEGIN:VEVENT
DTSTART;TZID=America/New_York:20231220T090000
DTEND;TZID=America/New_York:20231220T094500
DTSTAMP:20260425T064858
CREATED:20231205T175956Z
LAST-MODIFIED:20231205T180001Z
UID:1030-1703062800-1703065500@southcountyseniorcenter.org
SUMMARY:Enhanced Fitness
DESCRIPTION:
URL:https://southcountyseniorcenter.org/event/enhanced-fitness-52/
LOCATION:29 Sugarloaf St S Deerfield\, 29 Sugarloaf Street\, South Deerfield\, MA\, 01373\, United States
END:VEVENT
BEGIN:VEVENT
DTSTART;TZID=America/New_York:20231218T140000
DTEND;TZID=America/New_York:20231218T160000
DTSTAMP:20260425T064858
CREATED:20231205T195232Z
LAST-MODIFIED:20231205T195232Z
UID:1114-1702908000-1702915200@southcountyseniorcenter.org
SUMMARY:Sunderland Drop In Hours
DESCRIPTION:
URL:https://southcountyseniorcenter.org/event/sunderland-drop-in-hours-4/
LOCATION:22 Amherst Rd Sunderland\, 22 Amherst Road\, Sunderland\, MA\, 01375\, United States
END:VEVENT
BEGIN:VEVENT
DTSTART;TZID=America/New_York:20231218T130000
DTEND;TZID=America/New_York:20231218T140000
DTSTAMP:20260425T064858
CREATED:20231205T181621Z
LAST-MODIFIED:20231205T181621Z
UID:1061-1702904400-1702908000@southcountyseniorcenter.org
SUMMARY:Chair Yoga
DESCRIPTION:In collaboration with Cadence Yoga Center and grants from the Wells Trust & LifePath we continue to offer Chair Yoga on Mondays at 1pm and Balance in Motion on Wednesdays at 11 am at 289 Amherst Road (RTE 116) Sunderland. For more information please contact Alison at 413.265.5395.
URL:https://southcountyseniorcenter.org/event/chair-yoga-19/
LOCATION:289 Amherst Rd Sunderland\, 289 Amherst Road\, Sunderland\, MA\, 01375\, United States
END:VEVENT
BEGIN:VEVENT
DTSTART;TZID=America/New_York:20231218T120000
DTEND;TZID=America/New_York:20231218T124500
DTSTAMP:20260425T064858
CREATED:20231205T180449Z
LAST-MODIFIED:20231205T180449Z
UID:1042-1702900800-1702903500@southcountyseniorcenter.org
SUMMARY:By the Seat of Your Dance
DESCRIPTION:Seated Dance is a form of dance where participants warm-up their bodies\, Dance and stretch all in the security of their chair. We start each class with a pun\, joke or riddle. Laughter is essential. \nThis approach to dance was originally designed for people with mobility issues. Although\, anyone can enjoy this type of Dance form for their own enjoyment. It is a wonderful\, fun way to exercise! Join Kathy Steinem on Mondays at noon at 29 Sugarloaf St.\, S Deerfield. \nSuggested donations for this class is $1.00.
URL:https://southcountyseniorcenter.org/event/by-the-seat-of-your-dance-34/
LOCATION:29 Sugarloaf St S Deerfield\, 29 Sugarloaf Street\, South Deerfield\, MA\, 01373\, United States
END:VEVENT
BEGIN:VEVENT
DTSTART;TZID=America/New_York:20231218T100000
DTEND;TZID=America/New_York:20231218T120000
DTSTAMP:20260425T064858
CREATED:20231205T180815Z
LAST-MODIFIED:20231205T180815Z
UID:1050-1702893600-1702900800@southcountyseniorcenter.org
SUMMARY:Bingo
DESCRIPTION:
URL:https://southcountyseniorcenter.org/event/bingo-19/
LOCATION:29 Sugarloaf St S Deerfield\, 29 Sugarloaf Street\, South Deerfield\, MA\, 01373\, United States
END:VEVENT
BEGIN:VEVENT
DTSTART;TZID=America/New_York:20231218T090000
DTEND;TZID=America/New_York:20231218T094500
DTSTAMP:20260425T064858
CREATED:20231205T175921Z
LAST-MODIFIED:20231205T175921Z
UID:1028-1702890000-1702892700@southcountyseniorcenter.org
SUMMARY:Enhanced Fitness
DESCRIPTION:
URL:https://southcountyseniorcenter.org/event/enhanced-fitness-51/
LOCATION:29 Sugarloaf St S Deerfield\, 29 Sugarloaf Street\, South Deerfield\, MA\, 01373\, United States
END:VEVENT
BEGIN:VEVENT
DTSTART;TZID=America/New_York:20231213T140000
DTEND;TZID=America/New_York:20231213T160000
DTSTAMP:20260425T064858
CREATED:20231205T195139Z
LAST-MODIFIED:20231205T195139Z
UID:1112-1702476000-1702483200@southcountyseniorcenter.org
SUMMARY:Sunderland Drop In Hours
DESCRIPTION:
URL:https://southcountyseniorcenter.org/event/sunderland-drop-in-hours-3/
LOCATION:22 Amherst Rd Sunderland\, 22 Amherst Road\, Sunderland\, MA\, 01375\, United States
END:VEVENT
BEGIN:VEVENT
DTSTART;TZID=America/New_York:20231213T090000
DTEND;TZID=America/New_York:20231213T094500
DTSTAMP:20260425T064858
CREATED:20231205T175832Z
LAST-MODIFIED:20231205T175832Z
UID:1026-1702458000-1702460700@southcountyseniorcenter.org
SUMMARY:Enhanced Fitness
DESCRIPTION:
URL:https://southcountyseniorcenter.org/event/enhanced-fitness-50/
LOCATION:29 Sugarloaf St S Deerfield\, 29 Sugarloaf Street\, South Deerfield\, MA\, 01373\, United States
END:VEVENT
BEGIN:VEVENT
DTSTART;TZID=America/New_York:20231211T140000
DTEND;TZID=America/New_York:20231211T160000
DTSTAMP:20260425T064858
CREATED:20231205T195008Z
LAST-MODIFIED:20231205T195045Z
UID:1110-1702303200-1702310400@southcountyseniorcenter.org
SUMMARY:Sunderland Drop In Hours
DESCRIPTION:
URL:https://southcountyseniorcenter.org/event/sunderland-drop-in-hours-2/
LOCATION:22 Amherst Rd Sunderland\, 22 Amherst Road\, Sunderland\, MA\, 01375\, United States
END:VEVENT
BEGIN:VEVENT
DTSTART;TZID=America/New_York:20231211T130000
DTEND;TZID=America/New_York:20231211T140000
DTSTAMP:20260425T064858
CREATED:20231205T181547Z
LAST-MODIFIED:20231205T181547Z
UID:1059-1702299600-1702303200@southcountyseniorcenter.org
SUMMARY:Chair Yoga
DESCRIPTION:In collaboration with Cadence Yoga Center and grants from the Wells Trust & LifePath we continue to offer Chair Yoga on Mondays at 1pm and Balance in Motion on Wednesdays at 11 am at 289 Amherst Road (RTE 116) Sunderland. For more information please contact Alison at 413.265.5395.
URL:https://southcountyseniorcenter.org/event/chair-yoga-18/
LOCATION:289 Amherst Rd Sunderland\, 289 Amherst Road\, Sunderland\, MA\, 01375\, United States
END:VEVENT
BEGIN:VEVENT
DTSTART;TZID=America/New_York:20231211T120000
DTEND;TZID=America/New_York:20231211T124500
DTSTAMP:20260425T064858
CREATED:20231205T180402Z
LAST-MODIFIED:20231205T180402Z
UID:1040-1702296000-1702298700@southcountyseniorcenter.org
SUMMARY:By the Seat of Your Dance
DESCRIPTION:Seated Dance is a form of dance where participants warm-up their bodies\, Dance and stretch all in the security of their chair. We start each class with a pun\, joke or riddle. Laughter is essential. \nThis approach to dance was originally designed for people with mobility issues. Although\, anyone can enjoy this type of Dance form for their own enjoyment. It is a wonderful\, fun way to exercise! Join Kathy Steinem on Mondays at noon at 29 Sugarloaf St.\, S Deerfield. \nSuggested donations for this class is $1.00.
URL:https://southcountyseniorcenter.org/event/by-the-seat-of-your-dance-33/
LOCATION:29 Sugarloaf St S Deerfield\, 29 Sugarloaf Street\, South Deerfield\, MA\, 01373\, United States
END:VEVENT
BEGIN:VEVENT
DTSTART;TZID=America/New_York:20231211T100000
DTEND;TZID=America/New_York:20231211T120000
DTSTAMP:20260425T064858
CREATED:20231205T180744Z
LAST-MODIFIED:20231205T180744Z
UID:1048-1702288800-1702296000@southcountyseniorcenter.org
SUMMARY:Bingo
DESCRIPTION:
URL:https://southcountyseniorcenter.org/event/bingo-18/
LOCATION:29 Sugarloaf St S Deerfield\, 29 Sugarloaf Street\, South Deerfield\, MA\, 01373\, United States
END:VEVENT
BEGIN:VEVENT
DTSTART;TZID=America/New_York:20231211T090000
DTEND;TZID=America/New_York:20231211T094500
DTSTAMP:20260425T064858
CREATED:20231205T175755Z
LAST-MODIFIED:20231205T175755Z
UID:1024-1702285200-1702287900@southcountyseniorcenter.org
SUMMARY:Enhanced Fitness
DESCRIPTION:
URL:https://southcountyseniorcenter.org/event/enhanced-fitness-49/
LOCATION:29 Sugarloaf St S Deerfield\, 29 Sugarloaf Street\, South Deerfield\, MA\, 01373\, United States
END:VEVENT
BEGIN:VEVENT
DTSTART;TZID=America/New_York:20231208T090000
DTEND;TZID=America/New_York:20231208T094500
DTSTAMP:20260425T064858
CREATED:20231205T175719Z
LAST-MODIFIED:20231205T175719Z
UID:1022-1702026000-1702028700@southcountyseniorcenter.org
SUMMARY:Enhanced Fitness
DESCRIPTION:
URL:https://southcountyseniorcenter.org/event/enhanced-fitness-48/
LOCATION:29 Sugarloaf St S Deerfield\, 29 Sugarloaf Street\, South Deerfield\, MA\, 01373\, United States
END:VEVENT
BEGIN:VEVENT
DTSTART;TZID=America/New_York:20231206T140000
DTEND;TZID=America/New_York:20231206T160000
DTSTAMP:20260425T064858
CREATED:20231205T184119Z
LAST-MODIFIED:20231205T184119Z
UID:1108-1701871200-1701878400@southcountyseniorcenter.org
SUMMARY:Sunderland Drop In Hours
DESCRIPTION:
URL:https://southcountyseniorcenter.org/event/sunderland-drop-in-hours/
LOCATION:22 Amherst Rd Sunderland\, 22 Amherst Road\, Sunderland\, MA\, 01375\, United States
END:VEVENT
BEGIN:VEVENT
DTSTART;TZID=America/New_York:20231206T090000
DTEND;TZID=America/New_York:20231206T094500
DTSTAMP:20260425T064858
CREATED:20231205T183457Z
LAST-MODIFIED:20231205T183457Z
UID:1104-1701853200-1701855900@southcountyseniorcenter.org
SUMMARY:Enhanced Fitness
DESCRIPTION:
URL:https://southcountyseniorcenter.org/event/enhanced-fitness-69/
LOCATION:29 Sugarloaf St S Deerfield\, 29 Sugarloaf Street\, South Deerfield\, MA\, 01373\, United States
END:VEVENT
BEGIN:VEVENT
DTSTART;TZID=America/New_York:20231204T140000
DTEND;TZID=America/New_York:20231204T160000
DTSTAMP:20260425T064858
CREATED:20231205T184032Z
LAST-MODIFIED:20231205T184032Z
UID:1106-1701698400-1701705600@southcountyseniorcenter.org
SUMMARY:Sunderland Drop In Hours
DESCRIPTION:
URL:https://southcountyseniorcenter.org/event/drop-in-hours-15/
LOCATION:22 Amherst Rd Sunderland\, 22 Amherst Road\, Sunderland\, MA\, 01375\, United States
END:VEVENT
BEGIN:VEVENT
DTSTART;TZID=America/New_York:20231204T130000
DTEND;TZID=America/New_York:20231204T140000
DTSTAMP:20260425T064858
CREATED:20231205T181508Z
LAST-MODIFIED:20231205T181508Z
UID:1057-1701694800-1701698400@southcountyseniorcenter.org
SUMMARY:Chair Yoga
DESCRIPTION:In collaboration with Cadence Yoga Center and grants from the Wells Trust & LifePath we continue to offer Chair Yoga on Mondays at 1pm and Balance in Motion on Wednesdays at 11 am at 289 Amherst Road (RTE 116) Sunderland. For more information please contact Alison at 413.265.5395.
URL:https://southcountyseniorcenter.org/event/chair-yoga-17/
LOCATION:289 Amherst Rd Sunderland\, 289 Amherst Road\, Sunderland\, MA\, 01375\, United States
END:VEVENT
BEGIN:VEVENT
DTSTART;TZID=America/New_York:20231204T120000
DTEND;TZID=America/New_York:20231204T124500
DTSTAMP:20260425T064858
CREATED:20231205T180330Z
LAST-MODIFIED:20231205T180330Z
UID:1038-1701691200-1701693900@southcountyseniorcenter.org
SUMMARY:By the Seat of Your Dance
DESCRIPTION:Seated Dance is a form of dance where participants warm-up their bodies\, Dance and stretch all in the security of their chair. We start each class with a pun\, joke or riddle. Laughter is essential. \nThis approach to dance was originally designed for people with mobility issues. Although\, anyone can enjoy this type of Dance form for their own enjoyment. It is a wonderful\, fun way to exercise! Join Kathy Steinem on Mondays at noon at 29 Sugarloaf St.\, S Deerfield. \nSuggested donations for this class is $1.00.
URL:https://southcountyseniorcenter.org/event/by-the-seat-of-your-dance-29/
LOCATION:29 Sugarloaf St S Deerfield\, 29 Sugarloaf Street\, South Deerfield\, MA\, 01373\, United States
END:VEVENT
BEGIN:VEVENT
DTSTART;TZID=America/New_York:20231204T100000
DTEND;TZID=America/New_York:20231204T120000
DTSTAMP:20260425T064858
CREATED:20231205T180713Z
LAST-MODIFIED:20231205T183249Z
UID:1046-1701684000-1701691200@southcountyseniorcenter.org
SUMMARY:Bingo
DESCRIPTION:
URL:https://southcountyseniorcenter.org/event/bingo-17/
LOCATION:29 Sugarloaf St S Deerfield\, 29 Sugarloaf Street\, South Deerfield\, MA\, 01373\, United States
END:VEVENT
BEGIN:VEVENT
DTSTART;TZID=America/New_York:20231204T090000
DTEND;TZID=America/New_York:20231204T094500
DTSTAMP:20260425T064858
CREATED:20231205T175600Z
LAST-MODIFIED:20231205T183258Z
UID:1018-1701680400-1701683100@southcountyseniorcenter.org
SUMMARY:Enhanced Fitness
DESCRIPTION:
URL:https://southcountyseniorcenter.org/event/enhanced-fitness-46/
LOCATION:29 Sugarloaf St S Deerfield\, 29 Sugarloaf Street\, South Deerfield\, MA\, 01373\, United States
END:VEVENT
BEGIN:VEVENT
DTSTART;TZID=America/New_York:20231201T090000
DTEND;TZID=America/New_York:20231201T094500
DTSTAMP:20260425T064858
CREATED:20231205T175404Z
LAST-MODIFIED:20231205T175404Z
UID:1015-1701421200-1701423900@southcountyseniorcenter.org
SUMMARY:Enhanced Fitness
DESCRIPTION:
URL:https://southcountyseniorcenter.org/event/enhanced-fitness-45/
LOCATION:29 Sugarloaf St S Deerfield\, 29 Sugarloaf Street\, South Deerfield\, MA\, 01373\, United States
END:VEVENT
BEGIN:VEVENT
DTSTART;TZID=America/New_York:20230719T120000
DTEND;TZID=America/New_York:20230719T124500
DTSTAMP:20260425T064858
CREATED:20230707T152938Z
LAST-MODIFIED:20230725T161424Z
UID:985-1689768000-1689770700@southcountyseniorcenter.org
SUMMARY:By the Seat of Your Dance
DESCRIPTION:Seated Dance is a form of dance where participants warm-up their bodies\, Dance and stretch all in the security of their chair. We start each class with a pun\, joke or riddle. Laughter is essential. \nThis approach to dance was originally designed for people with mobility issues. Although\, anyone can enjoy this type of\nDance form for their own enjoyment. It is a wonderful\, fun way to exercise! Join Kathy Steinem on Mondays at noon &\nWednesdays 10 am (No Class 2nd Wednesdays) at 29 Sugarloaf St.\, S Deerfield. \nFee for this class is $3.
URL:https://southcountyseniorcenter.org/event/by-the-seat-of-your-dance-copy-copy/
LOCATION:29 Sugarloaf St S Deerfield\, 29 Sugarloaf Street\, South Deerfield\, MA\, 01373\, United States
END:VEVENT
BEGIN:VEVENT
DTSTART;TZID=America/New_York:20230710T090000
DTEND;TZID=America/New_York:20230710T094500
DTSTAMP:20260425T064858
CREATED:20230707T152415Z
LAST-MODIFIED:20230725T161433Z
UID:975-1688979600-1688982300@southcountyseniorcenter.org
SUMMARY:Enhanced Fitness
DESCRIPTION:
URL:https://southcountyseniorcenter.org/event/enhanced-fitness-copy-copy-copy/
LOCATION:29 Sugarloaf St S Deerfield\, 29 Sugarloaf Street\, South Deerfield\, MA\, 01373\, United States
END:VEVENT
BEGIN:VEVENT
DTSTART;TZID=America/New_York:20230707T090000
DTEND;TZID=America/New_York:20230707T094500
DTSTAMP:20260425T064858
CREATED:20230707T152154Z
LAST-MODIFIED:20230725T161439Z
UID:973-1688720400-1688723100@southcountyseniorcenter.org
SUMMARY:Enhanced Fitness
DESCRIPTION:
URL:https://southcountyseniorcenter.org/event/enhanced-fitness-44/
LOCATION:29 Sugarloaf St S Deerfield\, 29 Sugarloaf Street\, South Deerfield\, MA\, 01373\, United States
END:VEVENT
BEGIN:VEVENT
DTSTART;TZID=America/New_York:20230705T120000
DTEND;TZID=America/New_York:20230705T124500
DTSTAMP:20260425T064858
CREATED:20230707T152831Z
LAST-MODIFIED:20230725T161446Z
UID:982-1688558400-1688561100@southcountyseniorcenter.org
SUMMARY:By the Seat of Your Dance
DESCRIPTION:Seated Dance is a form of dance where participants warm-up their bodies\, Dance and stretch all in the security of their chair. We start each class with a pun\, joke or riddle. Laughter is essential. \nThis approach to dance was originally designed for people with mobility issues. Although\, anyone can enjoy this type of\nDance form for their own enjoyment. It is a wonderful\, fun way to exercise! Join Kathy Steinem on Mondays at noon &\nWednesdays 10 am (No Class 2nd Wednesdays) at 29 Sugarloaf St.\, S Deerfield. \nFee for this class is $3.
URL:https://southcountyseniorcenter.org/event/by-the-seat-of-your-dance-copy-copy-copy/
LOCATION:29 Sugarloaf St S Deerfield\, 29 Sugarloaf Street\, South Deerfield\, MA\, 01373\, United States
END:VEVENT
BEGIN:VEVENT
DTSTART;TZID=America/New_York:20230703T120000
DTEND;TZID=America/New_York:20230703T124500
DTSTAMP:20260425T064858
CREATED:20230707T152650Z
LAST-MODIFIED:20230725T161455Z
UID:978-1688385600-1688388300@southcountyseniorcenter.org
SUMMARY:By the Seat of Your Dance
DESCRIPTION:Seated Dance is a form of dance where participants warm-up their bodies\, Dance and stretch all in the security of their chair. We start each class with a pun\, joke or riddle. Laughter is essential. \nThis approach to dance was originally designed for people with mobility issues. Although\, anyone can enjoy this type of\nDance form for their own enjoyment. It is a wonderful\, fun way to exercise! Join Kathy Steinem on Mondays at noon &\nWednesdays 10 am (No Class 2nd Wednesdays) at 29 Sugarloaf St.\, S Deerfield. \nFee for this class is $3.
URL:https://southcountyseniorcenter.org/event/by-the-seat-of-your-dance-copy/
LOCATION:29 Sugarloaf St S Deerfield\, 29 Sugarloaf Street\, South Deerfield\, MA\, 01373\, United States
END:VEVENT
BEGIN:VEVENT
DTSTART;TZID=America/New_York:20230703T090000
DTEND;TZID=America/New_York:20230703T094500
DTSTAMP:20260425T064858
CREATED:20230707T152058Z
LAST-MODIFIED:20230725T161502Z
UID:970-1688374800-1688377500@southcountyseniorcenter.org
SUMMARY:Enhanced Fitness
DESCRIPTION:
URL:https://southcountyseniorcenter.org/event/enhanced-fitness-copy-6/
LOCATION:29 Sugarloaf St S Deerfield\, 29 Sugarloaf Street\, South Deerfield\, MA\, 01373\, United States
END:VEVENT
BEGIN:VEVENT
DTSTART;TZID=America/New_York:20230630T090000
DTEND;TZID=America/New_York:20230630T100000
DTSTAMP:20260425T064858
CREATED:20230304T140254Z
LAST-MODIFIED:20230304T140254Z
UID:360-1688115600-1688119200@southcountyseniorcenter.org
SUMMARY:Enhanced Fitness
DESCRIPTION:
URL:https://southcountyseniorcenter.org/event/enhanced-fitness-43/
LOCATION:29 Sugarloaf St S Deerfield\, 29 Sugarloaf Street\, South Deerfield\, MA\, 01373\, United States
END:VEVENT
END:VCALENDAR