BEGIN:VCALENDAR
VERSION:2.0
PRODID:-//South County Senior Center - ECPv6.15.20//NONSGML v1.0//EN
CALSCALE:GREGORIAN
METHOD:PUBLISH
X-WR-CALNAME:South County Senior Center
X-ORIGINAL-URL:https://southcountyseniorcenter.org
X-WR-CALDESC:Events for South County Senior Center
REFRESH-INTERVAL;VALUE=DURATION:PT1H
X-Robots-Tag:noindex
X-PUBLISHED-TTL:PT1H
BEGIN:VTIMEZONE
TZID:America/New_York
BEGIN:DAYLIGHT
TZOFFSETFROM:-0500
TZOFFSETTO:-0400
TZNAME:EDT
DTSTART:20220313T070000
END:DAYLIGHT
BEGIN:STANDARD
TZOFFSETFROM:-0400
TZOFFSETTO:-0500
TZNAME:EST
DTSTART:20221106T060000
END:STANDARD
BEGIN:DAYLIGHT
TZOFFSETFROM:-0500
TZOFFSETTO:-0400
TZNAME:EDT
DTSTART:20230312T070000
END:DAYLIGHT
BEGIN:STANDARD
TZOFFSETFROM:-0400
TZOFFSETTO:-0500
TZNAME:EST
DTSTART:20231105T060000
END:STANDARD
BEGIN:DAYLIGHT
TZOFFSETFROM:-0500
TZOFFSETTO:-0400
TZNAME:EDT
DTSTART:20240310T070000
END:DAYLIGHT
BEGIN:STANDARD
TZOFFSETFROM:-0400
TZOFFSETTO:-0500
TZNAME:EST
DTSTART:20241103T060000
END:STANDARD
END:VTIMEZONE
BEGIN:VEVENT
DTSTART;TZID=America/New_York:20230605T090000
DTEND;TZID=America/New_York:20230605T100000
DTSTAMP:20260425T104722
CREATED:20230304T130123Z
LAST-MODIFIED:20230304T130123Z
UID:258-1685955600-1685959200@southcountyseniorcenter.org
SUMMARY:Enhanced Fitness
DESCRIPTION:
URL:https://southcountyseniorcenter.org/event/enhanced-fitness-13/
LOCATION:29 Sugarloaf St S Deerfield\, 29 Sugarloaf Street\, South Deerfield\, MA\, 01373\, United States
END:VEVENT
BEGIN:VEVENT
DTSTART;TZID=America/New_York:20230602T090000
DTEND;TZID=America/New_York:20230602T100000
DTSTAMP:20260425T104722
CREATED:20230304T135916Z
LAST-MODIFIED:20230304T135916Z
UID:344-1685696400-1685700000@southcountyseniorcenter.org
SUMMARY:Enhanced Fitness
DESCRIPTION:
URL:https://southcountyseniorcenter.org/event/enhanced-fitness-35/
LOCATION:29 Sugarloaf St S Deerfield\, 29 Sugarloaf Street\, South Deerfield\, MA\, 01373\, United States
END:VEVENT
BEGIN:VEVENT
DTSTART;TZID=America/New_York:20230601T130000
DTEND;TZID=America/New_York:20230601T140000
DTSTAMP:20260425T104722
CREATED:20230304T210441Z
LAST-MODIFIED:20230304T221507Z
UID:621-1685624400-1685628000@southcountyseniorcenter.org
SUMMARY:Tai Chi
DESCRIPTION:Tai Chi classes are ongoing through our instructor\, Mari Rovang. Join us every Thursday at 1pm\, at the Whately Town\nHall (194 Chestnut Plain St.\, Whately). All are welcome! Contact Mari at 978.544.7693 or 413.522.7792 for details. \nSuggested Donation for Tai Chi is $1/per class.
URL:https://southcountyseniorcenter.org/event/tai-chi-15/
LOCATION:194 Chestnut Plain St Whately\, 194 Chestnut Plain Street\, Whately\, MA\, 01093\, United States
END:VEVENT
BEGIN:VEVENT
DTSTART;TZID=America/New_York:20230531T140000
DTEND;TZID=America/New_York:20230531T160000
DTSTAMP:20260425T104722
CREATED:20230304T203855Z
LAST-MODIFIED:20230304T203855Z
UID:545-1685541600-1685548800@southcountyseniorcenter.org
SUMMARY:Drop In Hours
DESCRIPTION:
URL:https://southcountyseniorcenter.org/event/drop-in-hours-30/
LOCATION:22 Amherst Rd Sunderland\, 22 Amherst Road\, Sunderland\, MA\, 01375\, United States
END:VEVENT
BEGIN:VEVENT
DTSTART;TZID=America/New_York:20230531T110000
DTEND;TZID=America/New_York:20230531T120000
DTSTAMP:20260425T104722
CREATED:20230304T205544Z
LAST-MODIFIED:20230304T220915Z
UID:585-1685530800-1685534400@southcountyseniorcenter.org
SUMMARY:Healthy Bones & Balance In Motion
DESCRIPTION:In collaboration with Cadence Yoga Center and grants from the Wells Trust & LifePath we continue to offer Chair Yoga on Mondays at 1pm and Healthy Bones and Balance on Wednesdays at 11 am at 289 Amherst Road (RTE 116) Sunderland. For more information please contact Alison at 413.265.5395.
URL:https://southcountyseniorcenter.org/event/healthy-bones-balance-in-motion-13/
LOCATION:289 Amherst Rd Sunderland\, 289 Amherst Road\, Sunderland\, MA\, 01375\, United States
END:VEVENT
BEGIN:VEVENT
DTSTART;TZID=America/New_York:20230531T100000
DTEND;TZID=America/New_York:20230531T110000
DTSTAMP:20260425T104722
CREATED:20230304T160112Z
LAST-MODIFIED:20230304T215024Z
UID:442-1685527200-1685530800@southcountyseniorcenter.org
SUMMARY:By the Seat of Your Dance
DESCRIPTION:Seated Dance is a form of dance where participants warm-up their bodies\, Dance and stretch all in the security of their chair. We start each class with a pun\, joke or riddle. Laughter is essential. \nThis approach to dance was originally designed for people with mobility issues. Although\, anyone can enjoy this type of\nDance form for their own enjoyment. It is a wonderful\, fun way to exercise! Join Kathy Steinem on Mondays at noon &\nWednesdays 10 am (No Class 2nd Wednesdays) at 29 Sugarloaf St.\, S Deerfield. \nSuggested Donation: $1/per class.
URL:https://southcountyseniorcenter.org/event/by-the-seat-of-your-dance-24/
LOCATION:29 Sugarloaf St S Deerfield\, 29 Sugarloaf Street\, South Deerfield\, MA\, 01373\, United States
END:VEVENT
BEGIN:VEVENT
DTSTART;TZID=America/New_York:20230531T090000
DTEND;TZID=America/New_York:20230531T100000
DTSTAMP:20260425T104722
CREATED:20230304T135841Z
LAST-MODIFIED:20230304T135859Z
UID:342-1685523600-1685527200@southcountyseniorcenter.org
SUMMARY:Enhanced Fitness
DESCRIPTION:
URL:https://southcountyseniorcenter.org/event/enhanced-fitness-copy-5/
LOCATION:29 Sugarloaf St S Deerfield\, 29 Sugarloaf Street\, South Deerfield\, MA\, 01373\, United States
END:VEVENT
BEGIN:VEVENT
DTSTART;TZID=America/New_York:20230529T140000
DTEND;TZID=America/New_York:20230529T160000
DTSTAMP:20260425T104722
CREATED:20230304T203808Z
LAST-MODIFIED:20230304T203808Z
UID:541-1685368800-1685376000@southcountyseniorcenter.org
SUMMARY:Drop In Hours
DESCRIPTION:
URL:https://southcountyseniorcenter.org/event/drop-in-hours-28/
LOCATION:22 Amherst Rd Sunderland\, 22 Amherst Road\, Sunderland\, MA\, 01375\, United States
END:VEVENT
BEGIN:VEVENT
DTSTART;TZID=America/New_York:20230529T120000
DTEND;TZID=America/New_York:20230529T130000
DTSTAMP:20260425T104722
CREATED:20230304T155810Z
LAST-MODIFIED:20230304T215631Z
UID:440-1685361600-1685365200@southcountyseniorcenter.org
SUMMARY:By the Seat of Your Dance
DESCRIPTION:Seated Dance is a form of dance where participants warm-up their bodies\, Dance and stretch all in the security of their chair. We start each class with a pun\, joke or riddle. Laughter is essential. \nThis approach to dance was originally designed for people with mobility issues. Although\, anyone can enjoy this type of\nDance form for their own enjoyment. It is a wonderful\, fun way to exercise! Join Kathy Steinem on Mondays at noon &\nWednesdays 10 am (No Class 2nd Wednesdays) at 29 Sugarloaf St.\, S Deerfield. \nSuggested Donation: $1/per class.
URL:https://southcountyseniorcenter.org/event/by-the-seat-of-your-dance-23/
LOCATION:29 Sugarloaf St S Deerfield\, 29 Sugarloaf Street\, South Deerfield\, MA\, 01373\, United States
END:VEVENT
BEGIN:VEVENT
DTSTART;TZID=America/New_York:20230529T100000
DTEND;TZID=America/New_York:20230529T120000
DTSTAMP:20260425T104722
CREATED:20230304T141235Z
LAST-MODIFIED:20230304T141235Z
UID:385-1685354400-1685361600@southcountyseniorcenter.org
SUMMARY:Bingo
DESCRIPTION:
URL:https://southcountyseniorcenter.org/event/bingo-11/
LOCATION:29 Sugarloaf St S Deerfield\, 29 Sugarloaf Street\, South Deerfield\, MA\, 01373\, United States
END:VEVENT
BEGIN:VEVENT
DTSTART;TZID=America/New_York:20230529T090000
DTEND;TZID=America/New_York:20230529T100000
DTSTAMP:20260425T104722
CREATED:20230304T130057Z
LAST-MODIFIED:20230304T130057Z
UID:256-1685350800-1685354400@southcountyseniorcenter.org
SUMMARY:Enhanced Fitness
DESCRIPTION:
URL:https://southcountyseniorcenter.org/event/enhanced-fitness-12/
LOCATION:29 Sugarloaf St S Deerfield\, 29 Sugarloaf Street\, South Deerfield\, MA\, 01373\, United States
END:VEVENT
BEGIN:VEVENT
DTSTART;TZID=America/New_York:20230526T090000
DTEND;TZID=America/New_York:20230526T100000
DTSTAMP:20260425T104722
CREATED:20230304T135816Z
LAST-MODIFIED:20230304T135816Z
UID:340-1685091600-1685095200@southcountyseniorcenter.org
SUMMARY:Enhanced Fitness
DESCRIPTION:
URL:https://southcountyseniorcenter.org/event/enhanced-fitness-34/
LOCATION:29 Sugarloaf St S Deerfield\, 29 Sugarloaf Street\, South Deerfield\, MA\, 01373\, United States
END:VEVENT
BEGIN:VEVENT
DTSTART;TZID=America/New_York:20230525T130000
DTEND;TZID=America/New_York:20230525T140000
DTSTAMP:20260425T104722
CREATED:20230304T210415Z
LAST-MODIFIED:20230304T221447Z
UID:619-1685019600-1685023200@southcountyseniorcenter.org
SUMMARY:Tai Chi
DESCRIPTION:Tai Chi classes are ongoing through our instructor\, Mari Rovang. Join us every Thursday at 1pm\, at the Whately Town\nHall (194 Chestnut Plain St.\, Whately). All are welcome! Contact Mari at 978.544.7693 or 413.522.7792 for details. \nSuggested Donation for Tai Chi is $1/per class.
URL:https://southcountyseniorcenter.org/event/tai-chi-14/
LOCATION:194 Chestnut Plain St Whately\, 194 Chestnut Plain Street\, Whately\, MA\, 01093\, United States
END:VEVENT
BEGIN:VEVENT
DTSTART;TZID=America/New_York:20230524T140000
DTEND;TZID=America/New_York:20230524T160000
DTSTAMP:20260425T104722
CREATED:20230304T203742Z
LAST-MODIFIED:20230304T203742Z
UID:539-1684936800-1684944000@southcountyseniorcenter.org
SUMMARY:Drop In Hours
DESCRIPTION:
URL:https://southcountyseniorcenter.org/event/drop-in-hours-27/
LOCATION:22 Amherst Rd Sunderland\, 22 Amherst Road\, Sunderland\, MA\, 01375\, United States
END:VEVENT
BEGIN:VEVENT
DTSTART;TZID=America/New_York:20230524T140000
DTEND;TZID=America/New_York:20230524T160000
DTSTAMP:20260425T104722
CREATED:20230304T203714Z
LAST-MODIFIED:20230304T204649Z
UID:537-1684936800-1684944000@southcountyseniorcenter.org
SUMMARY:Drop In Hours
DESCRIPTION:
URL:https://southcountyseniorcenter.org/event/drop-in-hours-26/
LOCATION:22 Amherst Rd Sunderland\, 22 Amherst Road\, Sunderland\, MA\, 01375\, United States
END:VEVENT
BEGIN:VEVENT
DTSTART;TZID=America/New_York:20230524T110000
DTEND;TZID=America/New_York:20230524T120000
DTSTAMP:20260425T104722
CREATED:20230304T205519Z
LAST-MODIFIED:20230304T220854Z
UID:583-1684926000-1684929600@southcountyseniorcenter.org
SUMMARY:Healthy Bones & Balance In Motion
DESCRIPTION:In collaboration with Cadence Yoga Center and grants from the Wells Trust & LifePath we continue to offer Chair Yoga on Mondays at 1pm and Healthy Bones and Balance on Wednesdays at 11 am at 289 Amherst Road (RTE 116) Sunderland. For more information please contact Alison at 413.265.5395.
URL:https://southcountyseniorcenter.org/event/healthy-bones-balance-in-motion-12/
LOCATION:289 Amherst Rd Sunderland\, 289 Amherst Road\, Sunderland\, MA\, 01375\, United States
END:VEVENT
BEGIN:VEVENT
DTSTART;TZID=America/New_York:20230524T100000
DTEND;TZID=America/New_York:20230524T110000
DTSTAMP:20260425T104722
CREATED:20230304T155734Z
LAST-MODIFIED:20230304T214834Z
UID:438-1684922400-1684926000@southcountyseniorcenter.org
SUMMARY:By the Seat of Your Dance
DESCRIPTION:Seated Dance is a form of dance where participants warm-up their bodies\, Dance and stretch all in the security of their chair. We start each class with a pun\, joke or riddle. Laughter is essential. \nThis approach to dance was originally designed for people with mobility issues. Although\, anyone can enjoy this type of\nDance form for their own enjoyment. It is a wonderful\, fun way to exercise! Join Kathy Steinem on Mondays at noon &\nWednesdays 10 am (No Class 2nd Wednesdays) at 29 Sugarloaf St.\, S Deerfield. \nSuggested Donation: $1/per class.
URL:https://southcountyseniorcenter.org/event/by-the-seat-of-your-dance-22/
LOCATION:29 Sugarloaf St S Deerfield\, 29 Sugarloaf Street\, South Deerfield\, MA\, 01373\, United States
END:VEVENT
BEGIN:VEVENT
DTSTART;TZID=America/New_York:20230524T090000
DTEND;TZID=America/New_York:20230524T100000
DTSTAMP:20260425T104722
CREATED:20230304T135737Z
LAST-MODIFIED:20230304T135749Z
UID:337-1684918800-1684922400@southcountyseniorcenter.org
SUMMARY:Enhanced Fitness
DESCRIPTION:
URL:https://southcountyseniorcenter.org/event/enhanced-fitness-copy-4/
LOCATION:29 Sugarloaf St S Deerfield\, 29 Sugarloaf Street\, South Deerfield\, MA\, 01373\, United States
END:VEVENT
BEGIN:VEVENT
DTSTART;TZID=America/New_York:20230522T140000
DTEND;TZID=America/New_York:20230522T160000
DTSTAMP:20260425T104722
CREATED:20230304T203636Z
LAST-MODIFIED:20230304T203636Z
UID:535-1684764000-1684771200@southcountyseniorcenter.org
SUMMARY:Drop In Hours
DESCRIPTION:
URL:https://southcountyseniorcenter.org/event/drop-in-hours-25/
LOCATION:22 Amherst Rd Sunderland\, 22 Amherst Road\, Sunderland\, MA\, 01375\, United States
END:VEVENT
BEGIN:VEVENT
DTSTART;TZID=America/New_York:20230522T130000
DTEND;TZID=America/New_York:20230522T140000
DTSTAMP:20260425T104722
CREATED:20230304T201754Z
LAST-MODIFIED:20230304T220407Z
UID:481-1684760400-1684764000@southcountyseniorcenter.org
SUMMARY:Chair Yoga
DESCRIPTION:In collaboration with Cadence Yoga Center and grants from the Wells Trust & LifePath we continue to offer Chair Yoga on Mondays at 1pm and Healthy Bones and Balance on Wednesdays at 11 am at 289 Amherst Road (RTE 116)\nSunderland. For more information please contact Alison at 413.265.5395.
URL:https://southcountyseniorcenter.org/event/chair-yoga-12/
LOCATION:289 Amherst Rd Sunderland\, 289 Amherst Road\, Sunderland\, MA\, 01375\, United States
END:VEVENT
BEGIN:VEVENT
DTSTART;TZID=America/New_York:20230522T120000
DTEND;TZID=America/New_York:20230522T130000
DTSTAMP:20260425T104722
CREATED:20230304T141749Z
LAST-MODIFIED:20230304T214038Z
UID:402-1684756800-1684760400@southcountyseniorcenter.org
SUMMARY:By the Seat of Your Dance
DESCRIPTION:Seated Dance is a form of dance where participants warm-up their bodies\, Dance and stretch all in the security of their chair. We start each class with a pun\, joke or riddle. Laughter is essential. \nThis approach to dance was originally designed for people with mobility issues. Although\, anyone can enjoy this type of\nDance form for their own enjoyment. It is a wonderful\, fun way to exercise! Join Kathy Steinem on Mondays at noon &\nWednesdays 10 am (No Class 2nd Wednesdays) at 29 Sugarloaf St.\, S Deerfield. \nSuggested Donation: $1/per class.
URL:https://southcountyseniorcenter.org/event/by-the-seat-of-your-dance-5/
LOCATION:29 Sugarloaf St S Deerfield\, 29 Sugarloaf Street\, South Deerfield\, MA\, 01373\, United States
END:VEVENT
BEGIN:VEVENT
DTSTART;TZID=America/New_York:20230522T100000
DTEND;TZID=America/New_York:20230522T120000
DTSTAMP:20260425T104722
CREATED:20230304T141318Z
LAST-MODIFIED:20230304T141318Z
UID:387-1684749600-1684756800@southcountyseniorcenter.org
SUMMARY:Bingo
DESCRIPTION:
URL:https://southcountyseniorcenter.org/event/bingo-12/
LOCATION:29 Sugarloaf St S Deerfield\, 29 Sugarloaf Street\, South Deerfield\, MA\, 01373\, United States
END:VEVENT
BEGIN:VEVENT
DTSTART;TZID=America/New_York:20230522T090000
DTEND;TZID=America/New_York:20230522T100000
DTSTAMP:20260425T104722
CREATED:20230304T130008Z
LAST-MODIFIED:20230304T130008Z
UID:254-1684746000-1684749600@southcountyseniorcenter.org
SUMMARY:Enhanced Fitness
DESCRIPTION:
URL:https://southcountyseniorcenter.org/event/enhanced-fitness-11/
LOCATION:29 Sugarloaf St S Deerfield\, 29 Sugarloaf Street\, South Deerfield\, MA\, 01373\, United States
END:VEVENT
BEGIN:VEVENT
DTSTART;TZID=America/New_York:20230519T090000
DTEND;TZID=America/New_York:20230519T100000
DTSTAMP:20260425T104722
CREATED:20230304T135709Z
LAST-MODIFIED:20230304T135709Z
UID:335-1684486800-1684490400@southcountyseniorcenter.org
SUMMARY:Enhanced Fitness
DESCRIPTION:
URL:https://southcountyseniorcenter.org/event/enhanced-fitness-33/
LOCATION:29 Sugarloaf St S Deerfield\, 29 Sugarloaf Street\, South Deerfield\, MA\, 01373\, United States
END:VEVENT
BEGIN:VEVENT
DTSTART;TZID=America/New_York:20230518T130000
DTEND;TZID=America/New_York:20230518T140000
DTSTAMP:20260425T104722
CREATED:20230304T210347Z
LAST-MODIFIED:20230304T221431Z
UID:617-1684414800-1684418400@southcountyseniorcenter.org
SUMMARY:Tai Chi
DESCRIPTION:Tai Chi classes are ongoing through our instructor\, Mari Rovang. Join us every Thursday at 1pm\, at the Whately Town\nHall (194 Chestnut Plain St.\, Whately). All are welcome! Contact Mari at 978.544.7693 or 413.522.7792 for details. \nSuggested Donation for Tai Chi is $1/per class.
URL:https://southcountyseniorcenter.org/event/tai-chi-13/
LOCATION:194 Chestnut Plain St Whately\, 194 Chestnut Plain Street\, Whately\, MA\, 01093\, United States
END:VEVENT
BEGIN:VEVENT
DTSTART;TZID=America/New_York:20230517T140000
DTEND;TZID=America/New_York:20230517T160000
DTSTAMP:20260425T104722
CREATED:20230304T203611Z
LAST-MODIFIED:20230304T203611Z
UID:533-1684332000-1684339200@southcountyseniorcenter.org
SUMMARY:Drop In Hours
DESCRIPTION:
URL:https://southcountyseniorcenter.org/event/drop-in-hours-24/
LOCATION:22 Amherst Rd Sunderland\, 22 Amherst Road\, Sunderland\, MA\, 01375\, United States
END:VEVENT
BEGIN:VEVENT
DTSTART;TZID=America/New_York:20230517T110000
DTEND;TZID=America/New_York:20230517T120000
DTSTAMP:20260425T104722
CREATED:20230304T205032Z
LAST-MODIFIED:20230304T221042Z
UID:565-1684321200-1684324800@southcountyseniorcenter.org
SUMMARY:Healthy Bones & Balance In Motion
DESCRIPTION:In collaboration with Cadence Yoga Center and grants from the Wells Trust & LifePath we continue to offer Chair Yoga on Mondays at 1pm and Healthy Bones and Balance on Wednesdays at 11 am at 289 Amherst Road (RTE 116) Sunderland. For more information please contact Alison at 413.265.5395.
URL:https://southcountyseniorcenter.org/event/healthy-bones-balance-in-motion-3/
LOCATION:289 Amherst Rd Sunderland\, 289 Amherst Road\, Sunderland\, MA\, 01375\, United States
END:VEVENT
BEGIN:VEVENT
DTSTART;TZID=America/New_York:20230517T100000
DTEND;TZID=America/New_York:20230517T110000
DTSTAMP:20260425T104722
CREATED:20230304T155211Z
LAST-MODIFIED:20230304T214539Z
UID:434-1684317600-1684321200@southcountyseniorcenter.org
SUMMARY:By the Seat of Your Dance
DESCRIPTION:Seated Dance is a form of dance where participants warm-up their bodies\, Dance and stretch all in the security of their chair. We start each class with a pun\, joke or riddle. Laughter is essential. \nThis approach to dance was originally designed for people with mobility issues. Although\, anyone can enjoy this type of\nDance form for their own enjoyment. It is a wonderful\, fun way to exercise! Join Kathy Steinem on Mondays at noon &\nWednesdays 10 am (No Class 2nd Wednesdays) at 29 Sugarloaf St.\, S Deerfield. \nSuggested Donation: $1/per class.
URL:https://southcountyseniorcenter.org/event/by-the-seat-of-your-dance-20/
LOCATION:29 Sugarloaf St S Deerfield\, 29 Sugarloaf Street\, South Deerfield\, MA\, 01373\, United States
END:VEVENT
BEGIN:VEVENT
DTSTART;TZID=America/New_York:20230517T090000
DTEND;TZID=America/New_York:20230517T100000
DTSTAMP:20260425T104722
CREATED:20230304T135641Z
LAST-MODIFIED:20230304T135641Z
UID:333-1684314000-1684317600@southcountyseniorcenter.org
SUMMARY:Enhanced Fitness
DESCRIPTION:
URL:https://southcountyseniorcenter.org/event/enhanced-fitness-32/
LOCATION:29 Sugarloaf St S Deerfield\, 29 Sugarloaf Street\, South Deerfield\, MA\, 01373\, United States
END:VEVENT
BEGIN:VEVENT
DTSTART;TZID=America/New_York:20230515T140000
DTEND;TZID=America/New_York:20230515T160000
DTSTAMP:20260425T104722
CREATED:20230304T203548Z
LAST-MODIFIED:20230304T203548Z
UID:531-1684159200-1684166400@southcountyseniorcenter.org
SUMMARY:Drop In Hours
DESCRIPTION:
URL:https://southcountyseniorcenter.org/event/drop-in-hours-23/
LOCATION:22 Amherst Rd Sunderland\, 22 Amherst Road\, Sunderland\, MA\, 01375\, United States
END:VEVENT
END:VCALENDAR